BEGIN:VCALENDAR
VERSION:2.0
PRODID:-//Elizabeth Hesp Coaching &amp; Consulting - ECPv6.13.2.1//NONSGML v1.0//EN
CALSCALE:GREGORIAN
METHOD:PUBLISH
X-WR-CALNAME:Elizabeth Hesp Coaching &amp; Consulting
X-ORIGINAL-URL:https://elizabethhespcoaching.com
X-WR-CALDESC:Events for Elizabeth Hesp Coaching &amp; Consulting
REFRESH-INTERVAL;VALUE=DURATION:PT1H
X-Robots-Tag:noindex
X-PUBLISHED-TTL:PT1H
BEGIN:VTIMEZONE
TZID:UTC
BEGIN:STANDARD
TZOFFSETFROM:+0000
TZOFFSETTO:+0000
TZNAME:UTC
DTSTART:20200101T000000
END:STANDARD
END:VTIMEZONE
BEGIN:VEVENT
DTSTART;TZID=UTC:20210302T100000
DTEND;TZID=UTC:20210302T120000
DTSTAMP:20260425T001134
CREATED:20220226T175750Z
LAST-MODIFIED:20220226T175750Z
UID:4823-1614679200-1614686400@elizabethhespcoaching.com
SUMMARY:Fusion 2021
DESCRIPTION:Join the WE-CAN community as we come together for FUSION 2021\, an inspiring showcase spotlighting racially diverse women entrepreneurs in the greater Kingston region.  \nSign up here
URL:https://elizabethhespcoaching.com/event/fusion-2021/
LOCATION:Zoom
CATEGORIES:Entrepreneurship,Female entrepreneurs,Self Leadership
END:VEVENT
BEGIN:VEVENT
DTSTART;TZID=UTC:20201124T093000
DTEND;TZID=UTC:20201124T123000
DTSTAMP:20260425T001134
CREATED:20220226T173609Z
LAST-MODIFIED:20220226T174055Z
UID:3685-1606210200-1606221000@elizabethhespcoaching.com
SUMMARY:Fusion 2020
DESCRIPTION:FUSION 2020 is an inspiring learning forum which took place on November 24\, 2020 to showcase the successes of racially diverse women entrepreneurs in the Kingston region. \nSign up here
URL:https://elizabethhespcoaching.com/event/fusion-2020/
LOCATION:Zoom
CATEGORIES:Entrepreneurship,Female entrepreneurs,Self Leadership
END:VEVENT
END:VCALENDAR