BEGIN:VCALENDAR
VERSION:2.0
PRODID:-//Elizabeth Hesp Coaching &amp; Consulting - ECPv6.13.2.1//NONSGML v1.0//EN
CALSCALE:GREGORIAN
METHOD:PUBLISH
X-WR-CALNAME:Elizabeth Hesp Coaching &amp; Consulting
X-ORIGINAL-URL:https://elizabethhespcoaching.com
X-WR-CALDESC:Events for Elizabeth Hesp Coaching &amp; Consulting
REFRESH-INTERVAL;VALUE=DURATION:PT1H
X-Robots-Tag:noindex
X-PUBLISHED-TTL:PT1H
BEGIN:VTIMEZONE
TZID:UTC
BEGIN:STANDARD
TZOFFSETFROM:+0000
TZOFFSETTO:+0000
TZNAME:UTC
DTSTART:20200101T000000
END:STANDARD
END:VTIMEZONE
BEGIN:VEVENT
DTSTART;TZID=UTC:20230406T170000
DTEND;TZID=UTC:20230406T193000
DTSTAMP:20260424T172804
CREATED:20230328T022343Z
LAST-MODIFIED:20230328T022343Z
UID:5112-1680800400-1680809400@elizabethhespcoaching.com
SUMMARY:Building Inclusive Communities - The Beauty to Belong (includes Newcomer Entrepreneur Awards)
DESCRIPTION:
URL:https://elizabethhespcoaching.com/event/building-inclusive-communities-the-beauty-to-belong-includes-newcomer-entrepreneur-awards/
LOCATION:Event & Banquet Services\, St. Lawrence College\, 100 Portsmouth Avenue\,\, Kingston\, Ontario\, K7L 5A6\, Canada
END:VEVENT
BEGIN:VEVENT
DTSTART;TZID=UTC:20230325T120000
DTEND;TZID=UTC:20230325T133000
DTSTAMP:20260424T172804
CREATED:20230328T014541Z
LAST-MODIFIED:20230328T015055Z
UID:5105-1679745600-1679751000@elizabethhespcoaching.com
SUMMARY:Cultural Differences and its Impact on Teams
DESCRIPTION:
URL:https://elizabethhespcoaching.com/event/cultural-differences-and-its-impact-on-teams/
LOCATION:Zoom
END:VEVENT
BEGIN:VEVENT
DTSTART;TZID=UTC:20220330T190000
DTEND;TZID=UTC:20220330T203000
DTSTAMP:20260424T172804
CREATED:20230328T024029Z
LAST-MODIFIED:20230328T024029Z
UID:5125-1648666800-1648672200@elizabethhespcoaching.com
SUMMARY:Career Building Blocks - KMFRC
DESCRIPTION:
URL:https://elizabethhespcoaching.com/event/career-building-blocks-kmfrc/
LOCATION:Zoom
END:VEVENT
BEGIN:VEVENT
DTSTART;TZID=UTC:20211014T100000
DTEND;TZID=UTC:20211014T113000
DTSTAMP:20260424T172804
CREATED:20211012T180213Z
LAST-MODIFIED:20230328T024619Z
UID:3878-1634205600-1634211000@elizabethhespcoaching.com
SUMMARY:How to Boost your Profits with Cultural Intelligence
DESCRIPTION:Sign up here
URL:https://elizabethhespcoaching.com/event/how-to-boost-your-profits-with-cultural-intelligence/
LOCATION:Zoom
CATEGORIES:Cultural Intelligence,Female entrepreneurs,Self Leadership
END:VEVENT
BEGIN:VEVENT
DTSTART;TZID=UTC:20210302T100000
DTEND;TZID=UTC:20210302T120000
DTSTAMP:20260424T172804
CREATED:20220226T175750Z
LAST-MODIFIED:20220226T175750Z
UID:4823-1614679200-1614686400@elizabethhespcoaching.com
SUMMARY:Fusion 2021
DESCRIPTION:Join the WE-CAN community as we come together for FUSION 2021\, an inspiring showcase spotlighting racially diverse women entrepreneurs in the greater Kingston region.  \nSign up here
URL:https://elizabethhespcoaching.com/event/fusion-2021/
LOCATION:Zoom
CATEGORIES:Entrepreneurship,Female entrepreneurs,Self Leadership
END:VEVENT
BEGIN:VEVENT
DTSTART;TZID=UTC:20201124T093000
DTEND;TZID=UTC:20201124T123000
DTSTAMP:20260424T172804
CREATED:20220226T173609Z
LAST-MODIFIED:20220226T174055Z
UID:3685-1606210200-1606221000@elizabethhespcoaching.com
SUMMARY:Fusion 2020
DESCRIPTION:FUSION 2020 is an inspiring learning forum which took place on November 24\, 2020 to showcase the successes of racially diverse women entrepreneurs in the Kingston region. \nSign up here
URL:https://elizabethhespcoaching.com/event/fusion-2020/
LOCATION:Zoom
CATEGORIES:Entrepreneurship,Female entrepreneurs,Self Leadership
END:VEVENT
END:VCALENDAR